BEGIN:VCALENDAR
VERSION:2.0
METHOD:PUBLISH
PRODID:-//Tendenci - The Open Source AMS for Associations//Tendenci Codeba
 se MIMEDIR//EN
BEGIN:VEVENT
DESCRIPTION:--- This iCal file does *NOT* confirm registration.\nEvent det
 ails subject to change. ---\nhttps://precisionswing.com.au/events/14/\n\nE
 vent Title: Australian Classic\nStart Date / Time: Jan 18, 2024 14:00 PM A
 ustralia/Brisbane\nLocation: \nWe are so excited to introduce The Australi
 an Classic! Our first year is a trial WSDC event so no points BUT we will 
 still be learning, competing, performing and social dancing all weekend lo
 ng with the incredible friends we have built over the years and how good w
 ill it be being able to say I was there when it all began or I was at the 
 first Australian Classic!\n \nWe have 10 incredible Aussie pros all ready 
 to show everyone how to swing and dance the entire weekend away. Some incr
 edible DJs all putting together some of the best new and old song choices 
 for our event.\n \nOur Venue at the Central Coast leagues Club is one of t
 he largest and most lovely ballrooms I have seen and our preferred Accomod
 ation at The Waterview Gosford Motel is a short walk from the venue across
  the road from the lake and has a pool so don&rsquo\;t forget to bring you
 r swimmers, what a way to get away and do something we all love !!\n\n--- 
 This iCal file does *NOT* confirm registration.Event details subject to ch
 ange. ---\n\n--- By Tendenci - The Open Source AMS for Associations ---\n
UID:uid14@precisionswing.com.au
SUMMARY:Australian Classic
DTSTART:20240118T140000Z
DTEND:20240121T135959Z
CLASS:PUBLIC
PRIORITY:5
DTSTAMP:20260423T043234Z
TRANSP:OPAQUE
SEQUENCE:0
X-ALT-DESC;FMTTYPE=text/html:<div>--- This iCal file does *NOT* confirm re
 gistration.Event details subject to change. ---</div><h1>Event Title: Aust
 ralian Classic</h1><div>https://precisionswing.com.au/events/14/</div><br 
 /><div>When: Jan 18, 2024 14:00 PM Australia/Brisbane</div><br /><div><div
  class="xdj266r x11i5rnm xat24cr x1mh8g0r x1vvkbs">We are so excited to in
 troduce The Australian Classic! Our first year is a trial WSDC event so no
  points BUT we will still be learning, competing, performing and social da
 ncing all weekend long with the incredible friends we have built over the 
 years and how good will it be being able to say I was there when it all be
 gan or I was at the first Australian Classic!</div> <div class="xdj266r x1
 1i5rnm xat24cr x1mh8g0r x1vvkbs">&nbsp\;</div> <div class="x11i5rnm xat24c
 r x1mh8g0r x1vvkbs xtlvy1s">We have 10 incredible Aussie pros all ready to
  show everyone how to swing and dance the entire weekend away. Some incred
 ible DJs all putting together some of the best new and old song choices fo
 r our event.</div> <div class="x11i5rnm xat24cr x1mh8g0r x1vvkbs xtlvy1s">
 &nbsp\;</div> <div class="x11i5rnm xat24cr x1mh8g0r x1vvkbs xtlvy1s">Our V
 enue at the Central Coast leagues Club is one of the largest and most love
 ly ballrooms I have seen and our preferred Accomodation at The Waterview G
 osford Motel is a short walk from the venue across the road from the lake 
 and has a pool so don&rsquo\;t forget to bring your swimmers, what a way t
 o get away and do something we all love !!</div></div><div>--- This iCal f
 ile does *NOT* confirm registration.Event details subject to change. ---</
 div><div>--- Tendenci&reg\; Software by <a href="https://www.tendenci.com"
 >tendenci.com</a> - The Open Source AMS for Associations ---</div>
BEGIN:VALARM
TRIGGER:-PT30M
ACTION:DISPLAY
DESCRIPTION:Reminder
END:VALARM
END:VEVENT
END:VCALENDAR
