BEGIN:VCALENDAR
VERSION:2.0
METHOD:PUBLISH
PRODID:-//Tendenci - The Open Source AMS for Associations//Tendenci Codeba
 se MIMEDIR//EN
BEGIN:VEVENT
DESCRIPTION:--- This iCal file does *NOT* confirm registration.\nEvent det
 ails subject to change. ---\nhttps://precisionswing.com.au/events/171/\n\n
 Event Title: Teacher Training: Skill progression and scoping\nStart Date /
  Time: Mar 21, 2026 04:00 AM Australia/Brisbane\nLocation: \n\n\n\n\nHave 
 you ever thought about what goes into a good class?\nOr what goes into gui
 ding a student to be a well rounded partner dancer?\nHow do I get students
  that show up regularly to keep progressing? Even if they aren't taking re
 gular private lessons?\nOver 4 sessions, we will give you tools to improve
  your students journeys through partner dancing.\n21st March: Skill progre
 ssion and scoping28th March: Practical skill for the Class9th May: Class P
 lanning and Level Structure23rd May: Individual Student Guidance\n$50 per 
 session or $150 for all 4 sessions.\nOpen to both established teachers and
  anyone interested in getting into or learning more about teaching. Also u
 seful to those who want to understand more about the learning process.\n\n
 \n\n\n\n--- This iCal file does *NOT* confirm registration.Event details s
 ubject to change. ---\n\n--- By Tendenci - The Open Source AMS for Associa
 tions ---\n
UID:uid171@precisionswing.com.au
SUMMARY:Teacher Training: Skill progression and scoping
DTSTART:20260321T040000Z
DTEND:20260321T060000Z
CLASS:PUBLIC
PRIORITY:5
DTSTAMP:20260421T191929Z
TRANSP:OPAQUE
SEQUENCE:0
X-ALT-DESC;FMTTYPE=text/html:<div>--- This iCal file does *NOT* confirm re
 gistration.Event details subject to change. ---</div><h1>Event Title: Teac
 her Training: Skill progression and scoping</h1><div>https://precisionswin
 g.com.au/events/171/</div><br /><div>When: Mar 21, 2026 04:00 AM Australia
 /Brisbane</div><br /><div><div class="xdj266r x11i5rnm xat24cr x1mh8g0r x1
 vvkbs"> <div class="xdj266r x11i5rnm xat24cr x1mh8g0r x1vvkbs"> <div class
 ="xdj266r x11i5rnm xat24cr x1mh8g0r x1vvkbs"> <div class="xdj266r x14z9mp 
 xat24cr x1lziwak x1vvkbs"> <p>Have you ever thought about what goes into a
  good class?</p> <p>Or what goes into guiding a student to be a well round
 ed partner dancer?</p> <p>How do I get students that show up regularly to 
 keep progressing? Even if they aren't taking regular private lessons?</p> 
 <p>Over 4 sessions, we will give you tools to improve your students journe
 ys through partner dancing.</p> <p>21st March: Skill progression and scopi
 ng<br>28th March: Practical skill for the Class<br>9th May: Class Planning
  and Level Structure<br>23rd May: Individual Student Guidance</p> <p>$50 p
 er session or $150 for all 4 sessions.</p> <p>Open to both established tea
 chers and anyone interested in getting into or learning more about teachin
 g. Also useful to those who want to understand more about the learning pro
 cess.</p> </div> </div> </div> </div></div><div>--- This iCal file does *N
 OT* confirm registration.Event details subject to change. ---</div><div>--
 - Tendenci&reg\; Software by <a href="https://www.tendenci.com">tendenci.c
 om</a> - The Open Source AMS for Associations ---</div>
BEGIN:VALARM
TRIGGER:-PT30M
ACTION:DISPLAY
DESCRIPTION:Reminder
END:VALARM
END:VEVENT
END:VCALENDAR
