BEGIN:VCALENDAR
VERSION:2.0
METHOD:PUBLISH
PRODID:-//Tendenci - The Open Source AMS for Associations//Tendenci Codeba
 se MIMEDIR//EN
BEGIN:VEVENT
DESCRIPTION:--- This iCal file does *NOT* confirm registration.\nEvent det
 ails subject to change. ---\nhttps://precisionswing.com.au/events/183/\n\n
 Event Title: Teacher Training: Practical skill for the Class\nStart Date /
  Time: Mar 28, 2026 04:00 AM Australia/Brisbane\nLocation: \n\n\n\n\n\n\n\
 n\nHave you ever thought about what goes into a good class?\nOr what goes 
 into guiding a student to be a well rounded partner dancer?\nHow do I get 
 students that show up regularly to keep progressing? Even if they aren't t
 aking regular private lessons?\nOver 4 sessions, we will give you tools to
  improve your students journeys through partner dancing.\n21st March: Skil
 l progression and scoping28th March: Practical skill for the Class9th May:
  Class Planning and Level Structure23rd May: Individual Student Guidance\n
 $50 per session or $150 for all 4 sessions.\nOpen to both established teac
 hers and anyone interested in getting into or learning more about teaching
 . Also useful to those who want to understand more about the learning proc
 ess.\n\n\n\n\n\n\n\n\n\n--- This iCal file does *NOT* confirm registration
 .Event details subject to change. ---\n\n--- By Tendenci - The Open Source
  AMS for Associations ---\n
UID:uid183@precisionswing.com.au
SUMMARY:Teacher Training: Practical skill for the Class
DTSTART:20260328T040000Z
DTEND:20260328T060000Z
CLASS:PUBLIC
PRIORITY:5
DTSTAMP:20260422T034459Z
TRANSP:OPAQUE
SEQUENCE:0
X-ALT-DESC;FMTTYPE=text/html:<div>--- This iCal file does *NOT* confirm re
 gistration.Event details subject to change. ---</div><h1>Event Title: Teac
 her Training: Practical skill for the Class</h1><div>https://precisionswin
 g.com.au/events/183/</div><br /><div>When: Mar 28, 2026 04:00 AM Australia
 /Brisbane</div><br /><div><div class="xdj266r x11i5rnm xat24cr x1mh8g0r x1
 vvkbs"> <div class="xdj266r x11i5rnm xat24cr x1mh8g0r x1vvkbs"> <div class
 ="xdj266r x11i5rnm xat24cr x1mh8g0r x1vvkbs"> <div class="xdj266r x14z9mp 
 xat24cr x1lziwak x1vvkbs"> <div class="xdj266r x11i5rnm xat24cr x1mh8g0r x
 1vvkbs"> <div class="xdj266r x11i5rnm xat24cr x1mh8g0r x1vvkbs"> <div clas
 s="xdj266r x11i5rnm xat24cr x1mh8g0r x1vvkbs"> <div class="xdj266r x14z9mp
  xat24cr x1lziwak x1vvkbs"> <p>Have you ever thought about what goes into 
 a good class?</p> <p>Or what goes into guiding a student to be a well roun
 ded partner dancer?</p> <p>How do I get students that show up regularly to
  keep progressing? Even if they aren't taking regular private lessons?</p>
  <p>Over 4 sessions, we will give you tools to improve your students journ
 eys through partner dancing.</p> <p>21st March: Skill progression and scop
 ing<br>28th March: Practical skill for the Class<br>9th May: Class Plannin
 g and Level Structure<br>23rd May: Individual Student Guidance</p> <p>$50 
 per session or $150 for all 4 sessions.</p> <p>Open to both established te
 achers and anyone interested in getting into or learning more about teachi
 ng. Also useful to those who want to understand more about the learning pr
 ocess.</p> </div> </div> </div> </div> </div> </div> </div> </div></div><d
 iv>--- This iCal file does *NOT* confirm registration.Event details subjec
 t to change. ---</div><div>--- Tendenci&reg\; Software by <a href="https:/
 /www.tendenci.com">tendenci.com</a> - The Open Source AMS for Associations
  ---</div>
BEGIN:VALARM
TRIGGER:-PT30M
ACTION:DISPLAY
DESCRIPTION:Reminder
END:VALARM
END:VEVENT
END:VCALENDAR
