BEGIN:VCALENDAR
VERSION:2.0
METHOD:PUBLISH
PRODID:-//Tendenci - The Open Source AMS for Associations//Tendenci Codeba
 se MIMEDIR//EN
BEGIN:VEVENT
DESCRIPTION:--- This iCal file does *NOT* confirm registration.\nEvent det
 ails subject to change. ---\nhttps://precisionswing.com.au/events/184/\n\n
 Event Title: Teacher Training: Class Planning and Level Structure\nStart D
 ate / Time: May 09, 2026 04:00 AM Australia/Brisbane\nLocation: \n\n\n\n\n
 \n\n\n\nHave you ever thought about what goes into a good class?\nOr what 
 goes into guiding a student to be a well rounded partner dancer?\nHow do I
  get students that show up regularly to keep progressing? Even if they are
 n't taking regular private lessons?\nOver 4 sessions, we will give you too
 ls to improve your students journeys through partner dancing.\n21st March:
  Skill progression and scoping28th March: Practical skill for the Class9th
  May: Class Planning and Level Structure23rd May: Individual Student Guida
 nce\n$50 per session or $150 for all 4 sessions.\nOpen to both established
  teachers and anyone interested in getting into or learning more about tea
 ching. Also useful to those who want to understand more about the learning
  process.\n\n\n\n\n\n\n\n\n\n--- This iCal file does *NOT* confirm registr
 ation.Event details subject to change. ---\n\n--- By Tendenci - The Open S
 ource AMS for Associations ---\n
UID:uid184@precisionswing.com.au
SUMMARY:Teacher Training: Class Planning and Level Structure
DTSTART:20260509T040000Z
DTEND:20260509T060000Z
CLASS:PUBLIC
PRIORITY:5
DTSTAMP:20260424T001258Z
TRANSP:OPAQUE
SEQUENCE:0
X-ALT-DESC;FMTTYPE=text/html:<div>--- This iCal file does *NOT* confirm re
 gistration.Event details subject to change. ---</div><h1>Event Title: Teac
 her Training: Class Planning and Level Structure</h1><div>https://precisio
 nswing.com.au/events/184/</div><br /><div>When: May 09, 2026 04:00 AM Aust
 ralia/Brisbane</div><br /><div><div class="xdj266r x11i5rnm xat24cr x1mh8g
 0r x1vvkbs"> <div class="xdj266r x11i5rnm xat24cr x1mh8g0r x1vvkbs"> <div 
 class="xdj266r x11i5rnm xat24cr x1mh8g0r x1vvkbs"> <div class="xdj266r x14
 z9mp xat24cr x1lziwak x1vvkbs"> <div class="xdj266r x11i5rnm xat24cr x1mh8
 g0r x1vvkbs"> <div class="xdj266r x11i5rnm xat24cr x1mh8g0r x1vvkbs"> <div
  class="xdj266r x11i5rnm xat24cr x1mh8g0r x1vvkbs"> <div class="xdj266r x1
 4z9mp xat24cr x1lziwak x1vvkbs"> <p>Have you ever thought about what goes 
 into a good class?</p> <p>Or what goes into guiding a student to be a well
  rounded partner dancer?</p> <p>How do I get students that show up regular
 ly to keep progressing? Even if they aren't taking regular private lessons
 ?</p> <p>Over 4 sessions, we will give you tools to improve your students 
 journeys through partner dancing.</p> <p>21st March: Skill progression and
  scoping<br>28th March: Practical skill for the Class<br>9th May: Class Pl
 anning and Level Structure<br>23rd May: Individual Student Guidance</p> <p
 >$50 per session or $150 for all 4 sessions.</p> <p>Open to both establish
 ed teachers and anyone interested in getting into or learning more about t
 eaching. Also useful to those who want to understand more about the learni
 ng process.</p> </div> </div> </div> </div> </div> </div> </div> </div></d
 iv><div>--- This iCal file does *NOT* confirm registration.Event details s
 ubject to change. ---</div><div>--- Tendenci&reg\; Software by <a href="ht
 tps://www.tendenci.com">tendenci.com</a> - The Open Source AMS for Associa
 tions ---</div>
BEGIN:VALARM
TRIGGER:-PT30M
ACTION:DISPLAY
DESCRIPTION:Reminder
END:VALARM
END:VEVENT
END:VCALENDAR
