BEGIN:VCALENDAR
VERSION:2.0
METHOD:PUBLISH
PRODID:-//Tendenci - The Open Source AMS for Associations//Tendenci Codeba
 se MIMEDIR//EN
BEGIN:VEVENT
DESCRIPTION:--- This iCal file does *NOT* confirm registration.\nEvent det
 ails subject to change. ---\nhttps://precisionswing.com.au/events/185/\n\n
 Event Title: Teacher Training: Individual Student Guidance\nStart Date / T
 ime: May 23, 2026 04:00 AM Australia/Brisbane\nLocation: \n\n\n\n\n\n\n\n\
 nHave you ever thought about what goes into a good class?\nOr what goes in
 to guiding a student to be a well rounded partner dancer?\nHow do I get st
 udents that show up regularly to keep progressing? Even if they aren't tak
 ing regular private lessons?\nOver 4 sessions, we will give you tools to i
 mprove your students journeys through partner dancing.\n21st March: Skill 
 progression and scoping28th March: Practical skill for the Class9th May: C
 lass Planning and Level Structure23rd May: Individual Student Guidance\n$5
 0 per session or $150 for all 4 sessions.\nOpen to both established teache
 rs and anyone interested in getting into or learning more about teaching. 
 Also useful to those who want to understand more about the learning proces
 s.\n\n\n\n\n\n\n\n\n\n--- This iCal file does *NOT* confirm registration.E
 vent details subject to change. ---\n\n--- By Tendenci - The Open Source A
 MS for Associations ---\n
UID:uid185@precisionswing.com.au
SUMMARY:Teacher Training: Individual Student Guidance
DTSTART:20260523T040000Z
DTEND:20260523T060000Z
CLASS:PUBLIC
PRIORITY:5
DTSTAMP:20260422T143354Z
TRANSP:OPAQUE
SEQUENCE:0
X-ALT-DESC;FMTTYPE=text/html:<div>--- This iCal file does *NOT* confirm re
 gistration.Event details subject to change. ---</div><h1>Event Title: Teac
 her Training: Individual Student Guidance</h1><div>https://precisionswing.
 com.au/events/185/</div><br /><div>When: May 23, 2026 04:00 AM Australia/B
 risbane</div><br /><div><div class="xdj266r x11i5rnm xat24cr x1mh8g0r x1vv
 kbs"> <div class="xdj266r x11i5rnm xat24cr x1mh8g0r x1vvkbs"> <div class="
 xdj266r x11i5rnm xat24cr x1mh8g0r x1vvkbs"> <div class="xdj266r x14z9mp xa
 t24cr x1lziwak x1vvkbs"> <div class="xdj266r x11i5rnm xat24cr x1mh8g0r x1v
 vkbs"> <div class="xdj266r x11i5rnm xat24cr x1mh8g0r x1vvkbs"> <div class=
 "xdj266r x11i5rnm xat24cr x1mh8g0r x1vvkbs"> <div class="xdj266r x14z9mp x
 at24cr x1lziwak x1vvkbs"> <p>Have you ever thought about what goes into a 
 good class?</p> <p>Or what goes into guiding a student to be a well rounde
 d partner dancer?</p> <p>How do I get students that show up regularly to k
 eep progressing? Even if they aren't taking regular private lessons?</p> <
 p>Over 4 sessions, we will give you tools to improve your students journey
 s through partner dancing.</p> <p>21st March: Skill progression and scopin
 g<br>28th March: Practical skill for the Class<br>9th May: Class Planning 
 and Level Structure<br>23rd May: Individual Student Guidance</p> <p>$50 pe
 r session or $150 for all 4 sessions.</p> <p>Open to both established teac
 hers and anyone interested in getting into or learning more about teaching
 . Also useful to those who want to understand more about the learning proc
 ess.</p> </div> </div> </div> </div> </div> </div> </div> </div></div><div
 >--- This iCal file does *NOT* confirm registration.Event details subject 
 to change. ---</div><div>--- Tendenci&reg\; Software by <a href="https://w
 ww.tendenci.com">tendenci.com</a> - The Open Source AMS for Associations -
 --</div>
BEGIN:VALARM
TRIGGER:-PT30M
ACTION:DISPLAY
DESCRIPTION:Reminder
END:VALARM
END:VEVENT
END:VCALENDAR
