BEGIN:VCALENDAR
VERSION:2.0
METHOD:PUBLISH
PRODID:-//Tendenci - The Open Source AMS for Associations//Tendenci Codeba
 se MIMEDIR//EN
BEGIN:VEVENT
DESCRIPTION:--- This iCal file does *NOT* confirm registration.\nEvent det
 ails subject to change. ---\nhttps://precisionswing.com.au/events/93/\n\nE
 vent Title: Swingsation 2025\nStart Date / Time: May 08, 2025 14:00 PM Aus
 tralia/Brisbane\nLocation: \n\nOur Champion West Coast Swing dancers Jakub
  Jakubek, Emeline Rochefeuille, Kenneth Rutland and Bryn Anderson are read
 y to bring the excitement back to Swingsation 2025!!\n \nThe weekend will 
 include:* Newbies Welcome Program* Beyond Basics Bootcamp (included in pas
 s price)* Open Workshops* WSDC Adv/All Star Levelled Workshops* Dance Part
 ies* WSDC Jack &amp\; Jill and Strictly Competitions* Performances and Fun
  Activities* Limited Private Lessons on Request\n\n\n--- This iCal file do
 es *NOT* confirm registration.Event details subject to change. ---\n\n--- 
 By Tendenci - The Open Source AMS for Associations ---\n
UID:uid93@precisionswing.com.au
SUMMARY:Swingsation 2025
DTSTART:20250508T140000Z
DTEND:20250511T135959Z
CLASS:PUBLIC
PRIORITY:5
DTSTAMP:20260423T203313Z
TRANSP:OPAQUE
SEQUENCE:0
X-ALT-DESC;FMTTYPE=text/html:<div>--- This iCal file does *NOT* confirm re
 gistration.Event details subject to change. ---</div><h1>Event Title: Swin
 gsation 2025</h1><div>https://precisionswing.com.au/events/93/</div><br />
 <div>When: May 08, 2025 14:00 PM Australia/Brisbane</div><br /><div><div c
 lass="xdj266r x11i5rnm xat24cr x1mh8g0r x1vvkbs"> <div class="xdj266r x11i
 5rnm xat24cr x1mh8g0r x1vvkbs">Our Champion West Coast Swing dancers Jakub
  Jakubek, Emeline Rochefeuille, Kenneth Rutland and Bryn Anderson are read
 y to bring the excitement back to Swingsation 2025!!</div> <div class="xdj
 266r x11i5rnm xat24cr x1mh8g0r x1vvkbs">&nbsp\;</div> <div class="x11i5rnm
  xat24cr x1mh8g0r x1vvkbs xtlvy1s">The weekend will include:<br class="htm
 l-br">* Newbies Welcome Program<br class="html-br">* Beyond Basics Bootcam
 p (included in pass price)<br class="html-br">* Open Workshops<br class="h
 tml-br">* WSDC Adv/All Star Levelled Workshops<br class="html-br">* Dance 
 Parties<br class="html-br">* WSDC Jack &amp\; Jill and Strictly Competitio
 ns<br class="html-br">* Performances and Fun Activities<br class="html-br"
 >* Limited Private Lessons on Request</div> </div></div><div>--- This iCal
  file does *NOT* confirm registration.Event details subject to change. ---
 </div><div>--- Tendenci&reg\; Software by <a href="https://www.tendenci.co
 m">tendenci.com</a> - The Open Source AMS for Associations ---</div>
BEGIN:VALARM
TRIGGER:-PT30M
ACTION:DISPLAY
DESCRIPTION:Reminder
END:VALARM
END:VEVENT
END:VCALENDAR
