BEGIN:VCALENDAR
VERSION:2.0
METHOD:PUBLISH
PRODID:-//Tendenci - The Open Source AMS for Associations//Tendenci Codeba
 se MIMEDIR//EN
BEGIN:VEVENT
DESCRIPTION:--- This iCal file does *NOT* confirm registration.\nEvent det
 ails subject to change. ---\nhttps://precisionswing.com.au/events/96/\n\nE
 vent Title: Shakedown Swing\nStart Date / Time: Aug 21, 2025 14:00 PM Aust
 ralia/Brisbane\nLocation: \nPLEASE DON'T BOOK FLIGHTS OR ACCOM YET - VENUE
  AND DATE TBC\n\n--- This iCal file does *NOT* confirm registration.Event 
 details subject to change. ---\n\n--- By Tendenci - The Open Source AMS fo
 r Associations ---\n
UID:uid96@precisionswing.com.au
SUMMARY:Shakedown Swing
DTSTART:20250821T140000Z
DTEND:20250824T135959Z
CLASS:PUBLIC
PRIORITY:5
DTSTAMP:20260423T213316Z
TRANSP:OPAQUE
SEQUENCE:0
X-ALT-DESC;FMTTYPE=text/html:<div>--- This iCal file does *NOT* confirm re
 gistration.Event details subject to change. ---</div><h1>Event Title: Shak
 edown Swing</h1><div>https://precisionswing.com.au/events/96/</div><br /><
 div>When: Aug 21, 2025 14:00 PM Australia/Brisbane</div><br /><div><div cl
 ass="xdj266r x11i5rnm xat24cr x1mh8g0r x1vvkbs">PLEASE DON'T BOOK FLIGHTS 
 OR ACCOM YET - VENUE AND DATE TBC</div></div><div>--- This iCal file does 
 *NOT* confirm registration.Event details subject to change. ---</div><div>
 --- Tendenci&reg\; Software by <a href="https://www.tendenci.com">tendenci
 .com</a> - The Open Source AMS for Associations ---</div>
BEGIN:VALARM
TRIGGER:-PT30M
ACTION:DISPLAY
DESCRIPTION:Reminder
END:VALARM
END:VEVENT
END:VCALENDAR
