BEGIN:VCALENDAR
VERSION:2.0
METHOD:PUBLISH
PRODID:-//Tendenci - The Open Source AMS for Associations//Tendenci Codeba
 se MIMEDIR//EN
BEGIN:VEVENT
DESCRIPTION:--- This iCal file does *NOT* confirm registration.\nEvent det
 ails subject to change. ---\nhttps://precisionswing.com.au/events/99/\n\nE
 vent Title: WCS Body Language Intensive\nStart Date / Time: May 03, 2025 2
 2:45 PM Australia/Brisbane\nLocation: \n\n\nThis uniquely designed intensi
 ve offers dancers the one-of-a-kind opportunity to learn the reasons behin
 d the Body Language of West Coast Swing. These fun and improvisational cla
 sses guide you through the Leader and Follower Responsibilities to\n- The 
 rhythm of WCS and why- The grammar of WCS and why- The vocabulary of WCS w
 ords and why- The communication process of WCS and how\nJesse and Ariel ar
 e setting the goal to share the communication keys that unlock the magical
  social dance experiences we all crave.\n \nBy opening these doors dancers
  can expect to find better interactive communication and a deeper understa
 nding of how to enjoy creativity without losing our partner in the process
 .\n \nJesse and Ariel both teach the Body Language Curriculum, a 1 to 1 tr
 anslation of the kinetic communication process of WCS. They cannot wait to
  share this Body Language Intensive with your community. Please join in as
  we explore the building blocks of West Coast Swing and celebrate the soci
 al dance we all Love!\n \nBody Language Intensive Schedule:1 hr - Edu Prep
 - bring a journal for notes- preparing the foundation strategy- effectiven
 ess vs. effortful\n \n2 hours - Skill Development Drills- executing on the
  strategy- Individual Body Mechanics- Elements of Swing\n \n1 hour - Perfo
 rmance Practice- expressing the change- preparing for progress\n \nCost - 
 $150pp or discounted to $100pp if you are attending Swingsation 2025 with 
 a full weekend pass.\nRegister and pay at - https://danceconvention.net/ev
 entdirector/en/eventpage/8652740\n\n\n\n--- This iCal file does *NOT* conf
 irm registration.Event details subject to change. ---\n\n--- By Tendenci -
  The Open Source AMS for Associations ---\n
UID:uid99@precisionswing.com.au
SUMMARY:WCS Body Language Intensive
DTSTART:20250503T224500Z
DTEND:20250504T030000Z
CLASS:PUBLIC
PRIORITY:5
DTSTAMP:20260423T002553Z
TRANSP:OPAQUE
SEQUENCE:0
X-ALT-DESC;FMTTYPE=text/html:<div>--- This iCal file does *NOT* confirm re
 gistration.Event details subject to change. ---</div><h1>Event Title: WCS 
 Body Language Intensive</h1><div>https://precisionswing.com.au/events/99/<
 /div><br /><div>When: May 03, 2025 22:45 PM Australia/Brisbane</div><br />
 <div><div class="xdj266r x11i5rnm xat24cr x1mh8g0r x1vvkbs"> <div class="x
 dj266r x11i5rnm xat24cr x1mh8g0r x1vvkbs"> <div class="xdj266r x11i5rnm xa
 t24cr x1mh8g0r x1vvkbs">This uniquely designed intensive offers dancers th
 e one-of-a-kind opportunity to learn the reasons behind the Body Language 
 of West Coast Swing. These fun and improvisational classes guide you throu
 gh the Leader and Follower Responsibilities to</div> <div class="x11i5rnm 
 xat24cr x1mh8g0r x1vvkbs xtlvy1s">- The rhythm of WCS and why<br class="ht
 ml-br">- The grammar of WCS and why<br class="html-br">- The vocabulary of
  WCS words and why<br class="html-br">- The communication process of WCS a
 nd how</div> <div class="x11i5rnm xat24cr x1mh8g0r x1vvkbs xtlvy1s">Jesse 
 and Ariel are setting the goal to share the communication keys that unlock
  the magical social dance experiences we all crave.</div> <div class="x11i
 5rnm xat24cr x1mh8g0r x1vvkbs xtlvy1s">&nbsp\;</div> <div class="x11i5rnm 
 xat24cr x1mh8g0r x1vvkbs xtlvy1s">By opening these doors dancers can expec
 t to find better interactive communication and a deeper understanding of h
 ow to enjoy creativity without losing our partner in the process.</div> <d
 iv class="x11i5rnm xat24cr x1mh8g0r x1vvkbs xtlvy1s">&nbsp\;</div> <div cl
 ass="x11i5rnm xat24cr x1mh8g0r x1vvkbs xtlvy1s">Jesse and Ariel both teach
  the Body Language Curriculum, a 1 to 1 translation of the kinetic communi
 cation process of WCS. They cannot wait to share this Body Language Intens
 ive with your community. Please join in as we explore the building blocks 
 of West Coast Swing and celebrate the social dance we all Love!</div> <div
  class="x11i5rnm xat24cr x1mh8g0r x1vvkbs xtlvy1s">&nbsp\;</div> <div clas
 s="x11i5rnm xat24cr x1mh8g0r x1vvkbs xtlvy1s">Body Language Intensive Sche
 dule:<br class="html-br">1 hr - Edu Prep<br class="html-br">- bring a jour
 nal for notes<br class="html-br">- preparing the foundation strategy<br cl
 ass="html-br">- effectiveness vs. effortful</div> <div class="x11i5rnm xat
 24cr x1mh8g0r x1vvkbs xtlvy1s">&nbsp\;</div> <div class="x11i5rnm xat24cr 
 x1mh8g0r x1vvkbs xtlvy1s">2 hours - Skill Development Drills<br class="htm
 l-br">- executing on the strategy<br class="html-br">- Individual Body Mec
 hanics<br class="html-br">- Elements of Swing</div> <div class="x11i5rnm x
 at24cr x1mh8g0r x1vvkbs xtlvy1s">&nbsp\;</div> <div class="x11i5rnm xat24c
 r x1mh8g0r x1vvkbs xtlvy1s">1 hour - Performance Practice<br class="html-b
 r">- expressing the change<br class="html-br">- preparing for progress</di
 v> <div class="x11i5rnm xat24cr x1mh8g0r x1vvkbs xtlvy1s">&nbsp\;</div> <d
 iv class="x11i5rnm xat24cr x1mh8g0r x1vvkbs xtlvy1s">Cost - $150pp or disc
 ounted to $100pp if you are attending Swingsation 2025 with a full weekend
  pass.</div> <div class="x11i5rnm xat24cr x1mh8g0r x1vvkbs xtlvy1s">Regist
 er and pay at - <a href="https://danceconvention.net/eventdirector/en/even
 tpage/8652740">https://danceconvention.net/eventdirector/en/eventpage/8652
 740</a></div> </div> </div></div><div>--- This iCal file does *NOT* confir
 m registration.Event details subject to change. ---</div><div>--- Tendenci
 &reg\; Software by <a href="https://www.tendenci.com">tendenci.com</a> - T
 he Open Source AMS for Associations ---</div>
BEGIN:VALARM
TRIGGER:-PT30M
ACTION:DISPLAY
DESCRIPTION:Reminder
END:VALARM
END:VEVENT
END:VCALENDAR
